BEGIN:VCALENDAR
VERSION:2.0
PRODID:-//49.12.112.25//NONSGML kigkonsult.se iCalcreator 2.20//
CALSCALE:GREGORIAN
METHOD:PUBLISH
X-WR-TIMEZONE:Europe/Berlin
BEGIN:VEVENT
UID:event100@IWB Energy Stars
DTSTAMP:20260421T173945Z
CATEGORIES:GV Generalversammlung
DESCRIPTION:GV-Sportclub IWB\nCategory: GV Generalversammlung\nLink: https:
 //iwb-energy-stars.ch/index.php?option=com_jem&view=event&id=100:gv-sportc
 lub-iwb\n
DTSTART;TZID=Europe/Berlin:20170619T190000
DTEND;TZID=Europe/Berlin:20170619T203000
LOCATION:Margarethenstrasse 40\, Basel
SUMMARY:GV-Sportclub IWB
URL:https://iwb-energy-stars.ch/index.php?option=com_jem&view=event&id=100:
 gv-sportclub-iwb
END:VEVENT
END:VCALENDAR