BEGIN:VCALENDAR
VERSION:2.0
PRODID:-//49.12.112.25//NONSGML kigkonsult.se iCalcreator 2.20//
CALSCALE:GREGORIAN
METHOD:PUBLISH
X-WR-TIMEZONE:Europe/Berlin
BEGIN:VEVENT
UID:event101@IWB Energy Stars
DTSTAMP:20260421T173628Z
CATEGORIES:IWB-Sportoobe
DESCRIPTION:Sportoobe IWB\nCategory: IWB-Sportoobe\nLink: https://iwb-energ
 y-stars.ch/index.php?option=com_jem&view=event&id=101:sportoobe-iwb\n
DTSTART;TZID=Europe/Berlin:20170814T170000
DTEND;TZID=Europe/Berlin:20170814T210000
LOCATION:Pruntrutermatte\, Basel
SUMMARY:Sportoobe IWB
URL:https://iwb-energy-stars.ch/index.php?option=com_jem&view=event&id=101:
 sportoobe-iwb
END:VEVENT
END:VCALENDAR