BEGIN:VCALENDAR
VERSION:2.0
PRODID:-//49.12.112.25//NONSGML kigkonsult.se iCalcreator 2.20//
CALSCALE:GREGORIAN
METHOD:PUBLISH
X-WR-TIMEZONE:Europe/Berlin
BEGIN:VEVENT
UID:event102@IWB Energy Stars
DTSTAMP:20260421T173312Z
CATEGORIES:Mannschaftsessen
DESCRIPTION:Mannschaftsessen\nCategory: Mannschaftsessen\nLink: https://iwb
 -energy-stars.ch/index.php?option=com_jem&view=event&id=102:mannschaftsess
 en\n
DTSTART;TZID=Europe/Berlin:20170513T170000
DTEND;TZID=Europe/Berlin:20170513T170000
LOCATION:Gemäss Einladung
SUMMARY:Mannschaftsessen
URL:https://iwb-energy-stars.ch/index.php?option=com_jem&view=event&id=102:
 mannschaftsessen
END:VEVENT
END:VCALENDAR