BEGIN:VCALENDAR
VERSION:2.0
PRODID:-//49.12.112.25//NONSGML kigkonsult.se iCalcreator 2.20//
CALSCALE:GREGORIAN
METHOD:PUBLISH
X-WR-TIMEZONE:Europe/Berlin
BEGIN:VEVENT
UID:event103@IWB Energy Stars
DTSTAMP:20260421T173023Z
CATEGORIES:Training
DESCRIPTION:Training Saisonstart\nCategory: Training\nLink: https://iwb-ene
 rgy-stars.ch/index.php?option=com_jem&view=event&id=103:training-saisonsta
 rt\n
DTSTART;TZID=Europe/Berlin:20170924T193000
DTEND;TZID=Europe/Berlin:20170924T210000
LOCATION:St. Jakob Arena - Basel
SUMMARY:Training Saisonstart
URL:https://iwb-energy-stars.ch/index.php?option=com_jem&view=event&id=103:
 training-saisonstart
END:VEVENT
END:VCALENDAR