BEGIN:VCALENDAR
VERSION:2.0
PRODID:-//49.12.112.25//NONSGML kigkonsult.se iCalcreator 2.20//
CALSCALE:GREGORIAN
METHOD:PUBLISH
X-WR-TIMEZONE:Europe/Berlin
BEGIN:VEVENT
UID:event10@IWB Energy Stars
DTSTAMP:20260421T204438Z
CATEGORIES:Kein Training
DESCRIPTION:Kein Training / Ostersonntag!\nCategory: Kein Training\nLink: h
 ttps://iwb-energy-stars.ch/index.php?option=com_jem&view=event&id=10:train
 ing-energy-stars\n
DTSTART;TZID=Europe/Berlin:20150405T193000
DTEND;TZID=Europe/Berlin:20150405T210000
LOCATION:St. Jakob Arena - Basel
SUMMARY:Kein Training / Ostersonntag!
URL:https://iwb-energy-stars.ch/index.php?option=com_jem&view=event&id=10:t
 raining-energy-stars
END:VEVENT
END:VCALENDAR