BEGIN:VCALENDAR
VERSION:2.0
PRODID:-//49.12.112.25//NONSGML kigkonsult.se iCalcreator 2.20//
CALSCALE:GREGORIAN
METHOD:PUBLISH
X-WR-TIMEZONE:Europe/Berlin
BEGIN:VEVENT
UID:event112@IWB Energy Stars
DTSTAMP:20260421T174110Z
CATEGORIES:Meisterschafts - Spiel
DESCRIPTION:Meisterschaft                              IWB Energy Stars : H
 errischried 1b\nCategory: Meisterschafts - Spiel\nLink: https://iwb-energy
 -stars.ch/index.php?option=com_jem&view=event&id=112:meisterschaft-iwb-ene
 rgy-stars-herrischried-1b\n
DTSTART;TZID=Europe/Berlin:20171203T190000
DTEND;TZID=Europe/Berlin:20171203T210000
LOCATION:St. Jakob Arena - Basel
SUMMARY:Meisterschaft                              IWB Energy Stars : Herri
 schried 1b
URL:https://iwb-energy-stars.ch/index.php?option=com_jem&view=event&id=112:
 meisterschaft-iwb-energy-stars-herrischried-1b
END:VEVENT
END:VCALENDAR