BEGIN:VCALENDAR
VERSION:2.0
PRODID:-//49.12.112.25//NONSGML kigkonsult.se iCalcreator 2.20//
CALSCALE:GREGORIAN
METHOD:PUBLISH
X-WR-TIMEZONE:Europe/Berlin
BEGIN:VEVENT
UID:event115@IWB Energy Stars
DTSTAMP:20260421T173612Z
CATEGORIES:Kein Training
DESCRIPTION:KEIN Training da  Heilig Abend\nCategory: Kein Training\nLink: 
 https://iwb-energy-stars.ch/index.php?option=com_jem&view=event&id=115:kei
 n-training-da-heilig-abend\n
DTSTART;VALUE=DATE:20171224
DTEND;VALUE=DATE:20171225
LOCATION:KEIN Training
SUMMARY:KEIN Training da  Heilig Abend
URL:https://iwb-energy-stars.ch/index.php?option=com_jem&view=event&id=115:
 kein-training-da-heilig-abend
END:VEVENT
END:VCALENDAR