BEGIN:VCALENDAR
VERSION:2.0
PRODID:-//49.12.112.25//NONSGML kigkonsult.se iCalcreator 2.20//
CALSCALE:GREGORIAN
METHOD:PUBLISH
X-WR-TIMEZONE:Europe/Berlin
BEGIN:VEVENT
UID:event116@IWB Energy Stars
DTSTAMP:20260421T173508Z
CATEGORIES:Kein Training
DESCRIPTION:KEIN Training vor  Neujahrsbeginn\nCategory: Kein Training\nLin
 k: https://iwb-energy-stars.ch/index.php?option=com_jem&view=event&id=116:
 kein-training-vor-neujahrsbeginn\n
DTSTART;VALUE=DATE:20171231
DTEND;VALUE=DATE:20180101
LOCATION:KEIN Training
SUMMARY:KEIN Training vor  Neujahrsbeginn
URL:https://iwb-energy-stars.ch/index.php?option=com_jem&view=event&id=116:
 kein-training-vor-neujahrsbeginn
END:VEVENT
END:VCALENDAR