BEGIN:VCALENDAR
VERSION:2.0
PRODID:-//49.12.112.25//NONSGML kigkonsult.se iCalcreator 2.20//
CALSCALE:GREGORIAN
METHOD:PUBLISH
X-WR-TIMEZONE:Europe/Berlin
BEGIN:VEVENT
UID:event118@IWB Energy Stars
DTSTAMP:20260421T174108Z
CATEGORIES:Meisterschafts - Spiel
DESCRIPTION:Meisterschaft IWB Energy Stars : Hawaiian Hockey Team\nCategory
 : Meisterschafts - Spiel\nLink: https://iwb-energy-stars.ch/index.php?opti
 on=com_jem&view=event&id=118:meisterschaft-iwb-energy-stars-hawaiian-hocke
 y-team\n
DTSTART;TZID=Europe/Berlin:20180114T190000
DTEND;TZID=Europe/Berlin:20180114T210000
LOCATION:St. Jakob Arena - Basel
SUMMARY:Meisterschaft IWB Energy Stars : Hawaiian Hockey Team
URL:https://iwb-energy-stars.ch/index.php?option=com_jem&view=event&id=118:
 meisterschaft-iwb-energy-stars-hawaiian-hockey-team
END:VEVENT
END:VCALENDAR