BEGIN:VCALENDAR
VERSION:2.0
PRODID:-//49.12.112.25//NONSGML kigkonsult.se iCalcreator 2.20//
CALSCALE:GREGORIAN
METHOD:PUBLISH
X-WR-TIMEZONE:Europe/Berlin
BEGIN:VEVENT
UID:event121@IWB Energy Stars
DTSTAMP:20260421T174008Z
CATEGORIES:Meisterschafts - Spiel
DESCRIPTION:Meisterschaft IWB Energy Stars : Eagles Freiburg\nCategory: Mei
 sterschafts - Spiel\nLink: https://iwb-energy-stars.ch/index.php?option=co
 m_jem&view=event&id=121:meisterschaft-iwb-energy-stars-eagles-freiburg\n
DTSTART;TZID=Europe/Berlin:20180204T193000
DTEND;TZID=Europe/Berlin:20180204T213000
LOCATION:St. Jakob Arena - Basel
SUMMARY:Meisterschaft IWB Energy Stars : Eagles Freiburg
URL:https://iwb-energy-stars.ch/index.php?option=com_jem&view=event&id=121:
 meisterschaft-iwb-energy-stars-eagles-freiburg
END:VEVENT
END:VCALENDAR