BEGIN:VCALENDAR
VERSION:2.0
PRODID:-//49.12.112.25//NONSGML kigkonsult.se iCalcreator 2.20//
CALSCALE:GREGORIAN
METHOD:PUBLISH
X-WR-TIMEZONE:Europe/Berlin
BEGIN:VEVENT
UID:event132@IWB Energy Stars
DTSTAMP:20260421T174109Z
CATEGORIES:Meisterschafts - Spiel
DESCRIPTION:Spiel um Platz 3 Energy Stars : Hawaiian\nCategory: Meisterscha
 fts - Spiel\nLink: https://iwb-energy-stars.ch/index.php?option=com_jem&vi
 ew=event&id=132:spiel-um-platz-3-energy-stars-hawaiian\n
DTSTART;TZID=Europe/Berlin:20180422T193000
DTEND;TZID=Europe/Berlin:20180422T213000
LOCATION:St. Jakob Arena - Basel
SUMMARY:Spiel um Platz 3 Energy Stars : Hawaiian
URL:https://iwb-energy-stars.ch/index.php?option=com_jem&view=event&id=132:
 spiel-um-platz-3-energy-stars-hawaiian
END:VEVENT
END:VCALENDAR