BEGIN:VCALENDAR
VERSION:2.0
PRODID:-//49.12.112.25//NONSGML kigkonsult.se iCalcreator 2.20//
CALSCALE:GREGORIAN
METHOD:PUBLISH
X-WR-TIMEZONE:Europe/Berlin
BEGIN:VEVENT
UID:event136@IWB Energy Stars
DTSTAMP:20260421T173635Z
CATEGORIES:Kein Training
DESCRIPTION:KEIN Training da  Pfingstsonntag\nCategory: Kein Training\nLink
 : https://iwb-energy-stars.ch/index.php?option=com_jem&view=event&id=136:k
 ein-training-da-pfingstsonntag\n
DTSTART;VALUE=DATE:20180520
DTEND;VALUE=DATE:20180521
LOCATION:KEIN Training
SUMMARY:KEIN Training da  Pfingstsonntag
URL:https://iwb-energy-stars.ch/index.php?option=com_jem&view=event&id=136:
 kein-training-da-pfingstsonntag
END:VEVENT
END:VCALENDAR