BEGIN:VCALENDAR
VERSION:2.0
PRODID:-//49.12.112.25//NONSGML kigkonsult.se iCalcreator 2.20//
CALSCALE:GREGORIAN
METHOD:PUBLISH
X-WR-TIMEZONE:Europe/Berlin
BEGIN:VEVENT
UID:event137@IWB Energy Stars
DTSTAMP:20260421T173840Z
CATEGORIES:Training
DESCRIPTION:Letztes Training Saison 17 / 18 Dauer 2 Std. Spielen\nCategory:
  Training\nLink: https://iwb-energy-stars.ch/index.php?option=com_jem&view
 =event&id=137:letztes-training-saison-17-18-dauer-2-std-spielen\n
DTSTART;TZID=Europe/Berlin:20180527T193000
DTEND;TZID=Europe/Berlin:20180527T213000
LOCATION:St. Jakob Arena - Basel
SUMMARY:Letztes Training Saison 17 / 18 Dauer 2 Std. Spielen
URL:https://iwb-energy-stars.ch/index.php?option=com_jem&view=event&id=137:
 letztes-training-saison-17-18-dauer-2-std-spielen
END:VEVENT
END:VCALENDAR