BEGIN:VCALENDAR
VERSION:2.0
PRODID:-//49.12.112.25//NONSGML kigkonsult.se iCalcreator 2.20//
CALSCALE:GREGORIAN
METHOD:PUBLISH
X-WR-TIMEZONE:Europe/Berlin
BEGIN:VEVENT
UID:event138@IWB Energy Stars
DTSTAMP:20260421T173611Z
CATEGORIES:Trainingsweekend
DESCRIPTION:Trainingsweekend Herrischried-DE  2018\nCategory: Trainingsweek
 end\nLink: https://iwb-energy-stars.ch/index.php?option=com_jem&view=event
 &id=138:trainingsweekend-herrischried-2018\n
DTSTART;VALUE=DATE:20181020
DTEND;VALUE=DATE:20181022
LOCATION:Eishalle Herrischried\,Herrischried / DE
SUMMARY:Trainingsweekend Herrischried-DE  2018
URL:https://iwb-energy-stars.ch/index.php?option=com_jem&view=event&id=138:
 trainingsweekend-herrischried-2018
END:VEVENT
END:VCALENDAR