BEGIN:VCALENDAR
VERSION:2.0
PRODID:-//49.12.112.25//NONSGML kigkonsult.se iCalcreator 2.20//
CALSCALE:GREGORIAN
METHOD:PUBLISH
X-WR-TIMEZONE:Europe/Berlin
BEGIN:VEVENT
UID:event139@IWB Energy Stars
DTSTAMP:20260421T174109Z
CATEGORIES:Playoff-Spiel
DESCRIPTION:Meisterschaft Playoff 1/4 Final Energy Stars : Herrischried\nCa
 tegory: Playoff-Spiel\nLink: https://iwb-energy-stars.ch/index.php?option=
 com_jem&view=event&id=139:meisterschaft-playoff-1-4-final-energy-stars-her
 rischried\n
DTSTART;TZID=Europe/Berlin:20180317T190000
DTEND;TZID=Europe/Berlin:20180317T210000
LOCATION:St. Jakob Arena - Basel
SUMMARY:Meisterschaft Playoff 1/4 Final Energy Stars : Herrischried
URL:https://iwb-energy-stars.ch/index.php?option=com_jem&view=event&id=139:
 meisterschaft-playoff-1-4-final-energy-stars-herrischried
END:VEVENT
END:VCALENDAR