BEGIN:VCALENDAR
VERSION:2.0
PRODID:-//49.12.112.25//NONSGML kigkonsult.se iCalcreator 2.20//
CALSCALE:GREGORIAN
METHOD:PUBLISH
X-WR-TIMEZONE:Europe/Berlin
BEGIN:VEVENT
UID:event13@IWB Energy Stars
DTSTAMP:20260421T192006Z
CATEGORIES:Playoff-Spiel
DESCRIPTION:Playoff 1/2 Final\nCategory: Playoff-Spiel\nLink: https://iwb-e
 nergy-stars.ch/index.php?option=com_jem&view=event&id=13:energy-stars-gege
 n-wild-boars\n
DTSTART;TZID=Europe/Berlin:20150426T190000
DTEND;TZID=Europe/Berlin:20150426T210000
LOCATION:St. Jakob Arena - Basel
SUMMARY:Playoff 1/2 Final
URL:https://iwb-energy-stars.ch/index.php?option=com_jem&view=event&id=13:e
 nergy-stars-gegen-wild-boars
END:VEVENT
END:VCALENDAR