BEGIN:VCALENDAR
VERSION:2.0
PRODID:-//49.12.112.25//NONSGML kigkonsult.se iCalcreator 2.20//
CALSCALE:GREGORIAN
METHOD:PUBLISH
X-WR-TIMEZONE:Europe/Berlin
BEGIN:VEVENT
UID:event140@IWB Energy Stars
DTSTAMP:20260421T174009Z
CATEGORIES:Playoff-Spiel
DESCRIPTION:Eagles Freiburg : IWB Energy Stars Halbfinal\nCategory: Playoff
 -Spiel\nLink: https://iwb-energy-stars.ch/index.php?option=com_jem&view=ev
 ent&id=140:eagles-freiburg-iwb-energy-stars-halbfinal\n
DTSTART;TZID=Europe/Berlin:20180414T191500
DTEND;TZID=Europe/Berlin:20180414T211500
LOCATION:St. Jakob Arena - Basel
SUMMARY:Eagles Freiburg : IWB Energy Stars Halbfinal
URL:https://iwb-energy-stars.ch/index.php?option=com_jem&view=event&id=140:
 eagles-freiburg-iwb-energy-stars-halbfinal
END:VEVENT
END:VCALENDAR