BEGIN:VCALENDAR
VERSION:2.0
PRODID:-//49.12.112.25//NONSGML kigkonsult.se iCalcreator 2.20//
CALSCALE:GREGORIAN
METHOD:PUBLISH
X-WR-TIMEZONE:Europe/Berlin
BEGIN:VEVENT
UID:event141@IWB Energy Stars
DTSTAMP:20260421T173612Z
CATEGORIES:Training
DESCRIPTION:Trainings Start Saison 18 / 19\nCategory: Training\nLink: https
 ://iwb-energy-stars.ch/index.php?option=com_jem&view=event&id=141:training
 s-start-saison-18-19\n
DTSTART;TZID=Europe/Berlin:20180923T193000
DTEND;TZID=Europe/Berlin:20180923T210000
LOCATION:St. Jakob Arena - Basel
SUMMARY:Trainings Start Saison 18 / 19
URL:https://iwb-energy-stars.ch/index.php?option=com_jem&view=event&id=141:
 trainings-start-saison-18-19
END:VEVENT
END:VCALENDAR