BEGIN:VCALENDAR
VERSION:2.0
PRODID:-//49.12.112.25//NONSGML kigkonsult.se iCalcreator 2.20//
CALSCALE:GREGORIAN
METHOD:PUBLISH
X-WR-TIMEZONE:Europe/Berlin
BEGIN:VEVENT
UID:event159@IWB Energy Stars
DTSTAMP:20260421T173151Z
CATEGORIES:Turnier
DESCRIPTION:Turnier\nCategory: Turnier\nLink: https://iwb-energy-stars.ch/i
 ndex.php?option=com_jem&view=event&id=159:turnier\n
DTSTART;TZID=Europe/Berlin:20190203T160000
DTEND;TZID=Europe/Berlin:20190203T210000
LOCATION:St. Jakob Arena - Basel
SUMMARY:Turnier
URL:https://iwb-energy-stars.ch/index.php?option=com_jem&view=event&id=159:
 turnier
END:VEVENT
END:VCALENDAR