BEGIN:VCALENDAR
VERSION:2.0
PRODID:-//49.12.112.25//NONSGML kigkonsult.se iCalcreator 2.20//
CALSCALE:GREGORIAN
METHOD:PUBLISH
X-WR-TIMEZONE:Europe/Berlin
BEGIN:VEVENT
UID:event16@IWB Energy Stars
DTSTAMP:20260421T204740Z
CATEGORIES:Meisterschafts - Spiel
DESCRIPTION:IWB Energy Stars : Lokomotive Muttenz\nCategory: Meisterschafts
  - Spiel\nLink: https://iwb-energy-stars.ch/index.php?option=com_jem&view=
 event&id=16:training-energy-stars\n
DTSTART;TZID=Europe/Berlin:20150308T193000
DTEND;TZID=Europe/Berlin:20150308T210000
LOCATION:St. Jakob Arena - Basel
SUMMARY:IWB Energy Stars : Lokomotive Muttenz
URL:https://iwb-energy-stars.ch/index.php?option=com_jem&view=event&id=16:t
 raining-energy-stars
END:VEVENT
END:VCALENDAR