BEGIN:VCALENDAR
VERSION:2.0
PRODID:-//49.12.112.25//NONSGML kigkonsult.se iCalcreator 2.20//
CALSCALE:GREGORIAN
METHOD:PUBLISH
X-WR-TIMEZONE:Europe/Berlin
BEGIN:VEVENT
UID:event172@IWB Energy Stars
DTSTAMP:20260421T173801Z
CATEGORIES:Meisterschafts - Spiel
DESCRIPTION:Meisterschaft IWB : Eagles Freiburg\nCategory: Meisterschafts -
  Spiel\nLink: https://iwb-energy-stars.ch/index.php?option=com_jem&view=ev
 ent&id=172:meisterschaft-iwb-eagles-freiburg\n
DTSTART;TZID=Europe/Berlin:20190428T183000
DTEND;TZID=Europe/Berlin:20190428T203000
LOCATION:St. Jakob Arena - Basel
SUMMARY:Meisterschaft IWB : Eagles Freiburg
URL:https://iwb-energy-stars.ch/index.php?option=com_jem&view=event&id=172:
 meisterschaft-iwb-eagles-freiburg
END:VEVENT
END:VCALENDAR