BEGIN:VCALENDAR
VERSION:2.0
PRODID:-//49.12.112.25//NONSGML kigkonsult.se iCalcreator 2.20//
CALSCALE:GREGORIAN
METHOD:PUBLISH
X-WR-TIMEZONE:Europe/Berlin
BEGIN:VEVENT
UID:event177@IWB Energy Stars
DTSTAMP:20260421T192251Z
CATEGORIES:Sportclub Anlass
DESCRIPTION:GV Sportclub IWB\nCategory: Sportclub Anlass\nLink: https://iwb
 -energy-stars.ch/index.php?option=com_jem&view=event&id=177:gv-sportclub-i
 wb\n
DTSTART;TZID=Europe/Berlin:20180625T190000
DTEND;TZID=Europe/Berlin:20180625T203000
LOCATION:Margarethenstrasse 40\, Basel
SUMMARY:GV Sportclub IWB
URL:https://iwb-energy-stars.ch/index.php?option=com_jem&view=event&id=177:
 gv-sportclub-iwb
END:VEVENT
END:VCALENDAR