BEGIN:VCALENDAR
VERSION:2.0
PRODID:-//49.12.112.25//NONSGML kigkonsult.se iCalcreator 2.20//
CALSCALE:GREGORIAN
METHOD:PUBLISH
X-WR-TIMEZONE:Europe/Berlin
BEGIN:VEVENT
UID:event178@IWB Energy Stars
DTSTAMP:20260421T181016Z
CATEGORIES:Sportclub Anlass
DESCRIPTION:Mannschaftsessen\nCategory: Sportclub Anlass\nLink: https://iwb
 -energy-stars.ch/index.php?option=com_jem&view=event&id=178:mannschaftsess
 en\n
DTSTART;TZID=Europe/Berlin:20180602T180000
DTEND;TZID=Europe/Berlin:20180602T180000
LOCATION:Gemäss Einladung
SUMMARY:Mannschaftsessen
URL:https://iwb-energy-stars.ch/index.php?option=com_jem&view=event&id=178:
 mannschaftsessen
END:VEVENT
END:VCALENDAR