BEGIN:VCALENDAR
VERSION:2.0
PRODID:-//49.12.112.25//NONSGML kigkonsult.se iCalcreator 2.20//
CALSCALE:GREGORIAN
METHOD:PUBLISH
X-WR-TIMEZONE:Europe/Berlin
BEGIN:VEVENT
UID:event179@IWB Energy Stars
DTSTAMP:20260421T173800Z
CATEGORIES:Sportclub Anlass
DESCRIPTION:IWB Sportoobe\nCategory: Sportclub Anlass\nLink: https://iwb-en
 ergy-stars.ch/index.php?option=com_jem&view=event&id=179:iwb-sportoobe\n
DTSTART;TZID=Europe/Berlin:20180813T170000
DTEND;TZID=Europe/Berlin:20180813T170000
LOCATION:Pruntrutermatte\, Basel
SUMMARY:IWB Sportoobe
URL:https://iwb-energy-stars.ch/index.php?option=com_jem&view=event&id=179:
 iwb-sportoobe
END:VEVENT
END:VCALENDAR