BEGIN:VCALENDAR
VERSION:2.0
PRODID:-//49.12.112.25//NONSGML kigkonsult.se iCalcreator 2.20//
CALSCALE:GREGORIAN
METHOD:PUBLISH
X-WR-TIMEZONE:Europe/Berlin
BEGIN:VEVENT
UID:event17@IWB Energy Stars
DTSTAMP:20260421T190958Z
CATEGORIES:Kein Training
DESCRIPTION:Sommerpause\nCategory: Kein Training\nLink: https://iwb-energy-
 stars.ch/index.php?option=com_jem&view=event&id=17:sommerpause\n
DTSTART;VALUE=DATE:20150524
DTEND;VALUE=DATE:20150921
SUMMARY:Sommerpause
URL:https://iwb-energy-stars.ch/index.php?option=com_jem&view=event&id=17:s
 ommerpause
END:VEVENT
END:VCALENDAR