BEGIN:VCALENDAR
VERSION:2.0
PRODID:-//49.12.112.25//NONSGML kigkonsult.se iCalcreator 2.20//
CALSCALE:GREGORIAN
METHOD:PUBLISH
X-WR-TIMEZONE:Europe/Berlin
BEGIN:VEVENT
UID:event180@IWB Energy Stars
DTSTAMP:20260421T174109Z
CATEGORIES:Sportclub Anlass
DESCRIPTION:Fest 50 Jahre IWB Sportclub\nCategory: Sportclub Anlass\nLink: 
 https://iwb-energy-stars.ch/index.php?option=com_jem&view=event&id=180:fes
 t-50-jahre-iwb-sportclub\n
DTSTART;TZID=Europe/Berlin:20180907T183000
DTEND;TZID=Europe/Berlin:20180907T230000
LOCATION:Gemäss Einladung
SUMMARY:Fest 50 Jahre IWB Sportclub
URL:https://iwb-energy-stars.ch/index.php?option=com_jem&view=event&id=180:
 fest-50-jahre-iwb-sportclub
END:VEVENT
END:VCALENDAR