BEGIN:VCALENDAR
VERSION:2.0
PRODID:-//49.12.112.25//NONSGML kigkonsult.se iCalcreator 2.20//
CALSCALE:GREGORIAN
METHOD:PUBLISH
X-WR-TIMEZONE:Europe/Berlin
BEGIN:VEVENT
UID:event181@IWB Energy Stars
DTSTAMP:20260421T173627Z
CATEGORIES:Trainingsweekend
DESCRIPTION:Trainingsweekend Herrischried 2019\nCategory: Trainingsweekend
 \nLink: https://iwb-energy-stars.ch/index.php?option=com_jem&view=event&id
 =181:trainingsweekend-herrischried-2019\n
DTSTART;VALUE=DATE:20191019
DTEND;VALUE=DATE:20191021
LOCATION:Eishalle Herrischried\,Herrischried / DE
SUMMARY:Trainingsweekend Herrischried 2019
URL:https://iwb-energy-stars.ch/index.php?option=com_jem&view=event&id=181:
 trainingsweekend-herrischried-2019
END:VEVENT
END:VCALENDAR