BEGIN:VCALENDAR
VERSION:2.0
PRODID:-//49.12.112.25//NONSGML kigkonsult.se iCalcreator 2.20//
CALSCALE:GREGORIAN
METHOD:PUBLISH
X-WR-TIMEZONE:Europe/Berlin
BEGIN:VEVENT
UID:event182@IWB Energy Stars
DTSTAMP:20260421T173452Z
CATEGORIES:Kein Training
DESCRIPTION:KEIN TRAININGSWEEKEND. Absage wegen aktueller Coronasituation\n
 Category: Kein Training\nLink: https://iwb-energy-stars.ch/index.php?optio
 n=com_jem&view=event&id=182:kein-trainingsweekend\n
DTSTART;VALUE=DATE:20201017
DTEND;VALUE=DATE:20201019
LOCATION:KEIN Training
SUMMARY:KEIN TRAININGSWEEKEND. Absage wegen aktueller Coronasituation
URL:https://iwb-energy-stars.ch/index.php?option=com_jem&view=event&id=182:
 kein-trainingsweekend
END:VEVENT
END:VCALENDAR