BEGIN:VCALENDAR
VERSION:2.0
PRODID:-//49.12.112.25//NONSGML kigkonsult.se iCalcreator 2.20//
CALSCALE:GREGORIAN
METHOD:PUBLISH
X-WR-TIMEZONE:Europe/Berlin
BEGIN:VEVENT
UID:event183@IWB Energy Stars
DTSTAMP:20260421T173150Z
CATEGORIES:Training
DESCRIPTION:Letztes Training = 2 Std. Mätschle\nCategory: Training\nLink: h
 ttps://iwb-energy-stars.ch/index.php?option=com_jem&view=event&id=183:letz
 tes-training-2-std-maetschle\n
DTSTART;TZID=Europe/Berlin:20190526T193000
DTEND;TZID=Europe/Berlin:20190526T213000
LOCATION:St. Jakob Arena - Basel
SUMMARY:Letztes Training = 2 Std. Mätschle
URL:https://iwb-energy-stars.ch/index.php?option=com_jem&view=event&id=183:
 letztes-training-2-std-maetschle
END:VEVENT
END:VCALENDAR