BEGIN:VCALENDAR
VERSION:2.0
PRODID:-//49.12.112.25//NONSGML kigkonsult.se iCalcreator 2.20//
CALSCALE:GREGORIAN
METHOD:PUBLISH
X-WR-TIMEZONE:Europe/Berlin
BEGIN:VEVENT
UID:event189@IWB Energy Stars
DTSTAMP:20260421T173150Z
CATEGORIES:GV Generalversammlung
DESCRIPTION:Generalversammlung\nCategory: GV Generalversammlung\nLink: http
 s://iwb-energy-stars.ch/index.php?option=com_jem&view=event&id=189:general
 versammlung\n
DTSTART;TZID=Europe/Berlin:20190617T190000
DTEND;TZID=Europe/Berlin:20190617T203000
LOCATION:Margarethenstrasse 40\, Basel
SUMMARY:Generalversammlung
URL:https://iwb-energy-stars.ch/index.php?option=com_jem&view=event&id=189:
 generalversammlung
END:VEVENT
END:VCALENDAR