BEGIN:VCALENDAR
VERSION:2.0
PRODID:-//49.12.112.25//NONSGML kigkonsult.se iCalcreator 2.20//
CALSCALE:GREGORIAN
METHOD:PUBLISH
X-WR-TIMEZONE:Europe/Berlin
BEGIN:VEVENT
UID:event18@IWB Energy Stars
DTSTAMP:20260421T191205Z
CATEGORIES:Trainingsweekend
DESCRIPTION:Trainingsweekend Herrischried - DE 2015\nCategory: Trainingswee
 kend\nLink: https://iwb-energy-stars.ch/index.php?option=com_jem&view=even
 t&id=18:trainingsweekend-herrischried-de-2015\n
DTSTART;TZID=Europe/Berlin:20151024T110000
DTEND;TZID=Europe/Berlin:20151025T170000
LOCATION:Eishalle Herrischried\,Herrischried / DE
SUMMARY:Trainingsweekend Herrischried - DE 2015
URL:https://iwb-energy-stars.ch/index.php?option=com_jem&view=event&id=18:t
 rainingsweekend-herrischried-de-2015
END:VEVENT
END:VCALENDAR