BEGIN:VCALENDAR
VERSION:2.0
PRODID:-//49.12.112.25//NONSGML kigkonsult.se iCalcreator 2.20//
CALSCALE:GREGORIAN
METHOD:PUBLISH
X-WR-TIMEZONE:Europe/Berlin
BEGIN:VEVENT
UID:event190@IWB Energy Stars
DTSTAMP:20260421T173706Z
CATEGORIES:Meisterschafts - Spiel
DESCRIPTION:Meisterschaft IWB : Eagles Freiburg\nCategory: Meisterschafts -
  Spiel\nLink: https://iwb-energy-stars.ch/index.php?option=com_jem&view=ev
 ent&id=190:meisterschaft-iwb-eagles-freiburg\n
DTSTART;TZID=Europe/Berlin:20191103T193000
DTEND;TZID=Europe/Berlin:20191103T210000
LOCATION:St. Jakob Arena - Basel
SUMMARY:Meisterschaft IWB : Eagles Freiburg
URL:https://iwb-energy-stars.ch/index.php?option=com_jem&view=event&id=190:
 meisterschaft-iwb-eagles-freiburg
END:VEVENT
END:VCALENDAR