BEGIN:VCALENDAR
VERSION:2.0
PRODID:-//49.12.112.25//NONSGML kigkonsult.se iCalcreator 2.20//
CALSCALE:GREGORIAN
METHOD:PUBLISH
X-WR-TIMEZONE:Europe/Berlin
BEGIN:VEVENT
UID:event192@IWB Energy Stars
DTSTAMP:20260421T173814Z
CATEGORIES:Meisterschafts - Spiel
DESCRIPTION:Meisterschaft IWB : Herrischried 1b\nCategory: Meisterschafts -
  Spiel\nLink: https://iwb-energy-stars.ch/index.php?option=com_jem&view=ev
 ent&id=192:meisterschaft-iwb-herrischried-1b\n
DTSTART;TZID=Europe/Berlin:20191117T193000
DTEND;TZID=Europe/Berlin:20191117T210000
LOCATION:St. Jakob Arena - Basel
SUMMARY:Meisterschaft IWB : Herrischried 1b
URL:https://iwb-energy-stars.ch/index.php?option=com_jem&view=event&id=192:
 meisterschaft-iwb-herrischried-1b
END:VEVENT
END:VCALENDAR