BEGIN:VCALENDAR
VERSION:2.0
PRODID:-//49.12.112.25//NONSGML kigkonsult.se iCalcreator 2.20//
CALSCALE:GREGORIAN
METHOD:PUBLISH
X-WR-TIMEZONE:Europe/Berlin
BEGIN:VEVENT
UID:event193@IWB Energy Stars
DTSTAMP:20260421T191457Z
CATEGORIES:Meisterschafts - Spiel
DESCRIPTION:Meisterschaft IWB : Hawaiian Team\nCategory: Meisterschafts - S
 piel\nLink: https://iwb-energy-stars.ch/index.php?option=com_jem&view=even
 t&id=193:meisterschaft-iwb-hawaiian\n
DTSTART;TZID=Europe/Berlin:20191124T193000
DTEND;TZID=Europe/Berlin:20191124T210000
LOCATION:St. Jakob Arena - Basel
SUMMARY:Meisterschaft IWB : Hawaiian Team
URL:https://iwb-energy-stars.ch/index.php?option=com_jem&view=event&id=193:
 meisterschaft-iwb-hawaiian
END:VEVENT
END:VCALENDAR