BEGIN:VCALENDAR
VERSION:2.0
PRODID:-//49.12.112.25//NONSGML kigkonsult.se iCalcreator 2.20//
CALSCALE:GREGORIAN
METHOD:PUBLISH
X-WR-TIMEZONE:Europe/Berlin
BEGIN:VEVENT
UID:event19@IWB Energy Stars
DTSTAMP:20260421T191033Z
CATEGORIES:Training
DESCRIPTION:Saisonstart Saison 2015/2016\nCategory: Training\nLink: https:/
 /iwb-energy-stars.ch/index.php?option=com_jem&view=event&id=19:saisonstart
 -saison-2015-2016\n
DTSTART;TZID=Europe/Berlin:20150927T193000
DTEND;TZID=Europe/Berlin:20150927T210000
LOCATION:St. Jakob Arena - Basel
SUMMARY:Saisonstart Saison 2015/2016
URL:https://iwb-energy-stars.ch/index.php?option=com_jem&view=event&id=19:s
 aisonstart-saison-2015-2016
END:VEVENT
END:VCALENDAR