BEGIN:VCALENDAR
VERSION:2.0
PRODID:-//49.12.112.25//NONSGML kigkonsult.se iCalcreator 2.20//
CALSCALE:GREGORIAN
METHOD:PUBLISH
X-WR-TIMEZONE:Europe/Berlin
BEGIN:VEVENT
UID:event1@IWB Energy Stars
DTSTAMP:20260421T205458Z
CATEGORIES:Meisterschafts - Spiel
DESCRIPTION:Eagels Freiburg : IWB Energy Stars\nCategory: Meisterschafts - 
 Spiel\nLink: https://iwb-energy-stars.ch/index.php?option=com_jem&view=eve
 nt&id=1:eagels-freiburg-iwb-energy-stars\n
DTSTART;TZID=Europe/Berlin:20150201T193000
DTEND;TZID=Europe/Berlin:20150201T193000
LOCATION:St. Jakob Arena - Basel
SUMMARY:Eagels Freiburg : IWB Energy Stars
URL:https://iwb-energy-stars.ch/index.php?option=com_jem&view=event&id=1:ea
 gels-freiburg-iwb-energy-stars
END:VEVENT
END:VCALENDAR