BEGIN:VCALENDAR
VERSION:2.0
PRODID:-//49.12.112.25//NONSGML kigkonsult.se iCalcreator 2.20//
CALSCALE:GREGORIAN
METHOD:PUBLISH
X-WR-TIMEZONE:Europe/Berlin
BEGIN:VEVENT
UID:event202@IWB Energy Stars
DTSTAMP:20260421T173806Z
CATEGORIES:Kein Training
DESCRIPTION:KEIN TRAINING DA NACHWUCHSSPIEL\nCategory: Kein Training\nLink:
  https://iwb-energy-stars.ch/index.php?option=com_jem&view=event&id=202:ke
 in-training-da-nachwuchsspiel\n
DTSTART;TZID=Europe/Berlin:20200126T000000
DTEND;TZID=Europe/Berlin:20200126T000000
LOCATION:KEIN Training
SUMMARY:KEIN TRAINING DA NACHWUCHSSPIEL
URL:https://iwb-energy-stars.ch/index.php?option=com_jem&view=event&id=202:
 kein-training-da-nachwuchsspiel
END:VEVENT
END:VCALENDAR