BEGIN:VCALENDAR
VERSION:2.0
PRODID:-//49.12.112.25//NONSGML kigkonsult.se iCalcreator 2.20//
CALSCALE:GREGORIAN
METHOD:PUBLISH
X-WR-TIMEZONE:Europe/Berlin
BEGIN:VEVENT
UID:event204@IWB Energy Stars
DTSTAMP:20260421T173611Z
CATEGORIES:Freundschafts-Spiel
DESCRIPTION:Freundschaftsspiel ewb:iwb Energy Stars\nCategory: Freundschaft
 s-Spiel\nLink: https://iwb-energy-stars.ch/index.php?option=com_jem&view=e
 vent&id=204:freundschaftsspiel\n
DTSTART;TZID=Europe/Berlin:20200209T110000
DTEND;TZID=Europe/Berlin:20200209T130000
LOCATION:Post Finance Arena Bern\,Bern
SUMMARY:Freundschaftsspiel ewb:iwb Energy Stars
URL:https://iwb-energy-stars.ch/index.php?option=com_jem&view=event&id=204:
 freundschaftsspiel
END:VEVENT
END:VCALENDAR