BEGIN:VCALENDAR
VERSION:2.0
PRODID:-//49.12.112.25//NONSGML kigkonsult.se iCalcreator 2.20//
CALSCALE:GREGORIAN
METHOD:PUBLISH
X-WR-TIMEZONE:Europe/Berlin
BEGIN:VEVENT
UID:event206@IWB Energy Stars
DTSTAMP:20260421T191521Z
CATEGORIES:Meisterschafts - Spiel
DESCRIPTION:Meisterschaft IWB : Hawaiian\nCategory: Meisterschafts - Spiel
 \nLink: https://iwb-energy-stars.ch/index.php?option=com_jem&view=event&id
 =206:meisterschaft-iwb-hawaiian\n
DTSTART;TZID=Europe/Berlin:20200223T193000
DTEND;TZID=Europe/Berlin:20200223T210000
LOCATION:St. Jakob Arena - Basel
SUMMARY:Meisterschaft IWB : Hawaiian
URL:https://iwb-energy-stars.ch/index.php?option=com_jem&view=event&id=206:
 meisterschaft-iwb-hawaiian
END:VEVENT
END:VCALENDAR