BEGIN:VCALENDAR
VERSION:2.0
PRODID:-//49.12.112.25//NONSGML kigkonsult.se iCalcreator 2.20//
CALSCALE:GREGORIAN
METHOD:PUBLISH
X-WR-TIMEZONE:Europe/Berlin
BEGIN:VEVENT
UID:event20@IWB Energy Stars
DTSTAMP:20260421T191148Z
CATEGORIES:Mannschaftsessen
DESCRIPTION:Mannschaftsessen\nCategory: Mannschaftsessen\nLink: https://iwb
 -energy-stars.ch/index.php?option=com_jem&view=event&id=20:mannschaftsesse
 n\n
DTSTART;VALUE=DATE:20150605
DTEND;VALUE=DATE:20150606
LOCATION:Gemäss Einladung
SUMMARY:Mannschaftsessen
URL:https://iwb-energy-stars.ch/index.php?option=com_jem&view=event&id=20:m
 annschaftsessen
END:VEVENT
END:VCALENDAR