BEGIN:VCALENDAR
VERSION:2.0
PRODID:-//49.12.112.25//NONSGML kigkonsult.se iCalcreator 2.20//
CALSCALE:GREGORIAN
METHOD:PUBLISH
X-WR-TIMEZONE:Europe/Berlin
BEGIN:VEVENT
UID:event213@IWB Energy Stars
DTSTAMP:20260421T175603Z
CATEGORIES:Kein Training
DESCRIPTION:KEIN TRAINING DA OSTERSONNTAG\nCategory: Kein Training\nLink: h
 ttps://iwb-energy-stars.ch/index.php?option=com_jem&view=event&id=213:kein
 -training-da-ostersonntag\n
DTSTART;VALUE=DATE:20200412
DTEND;VALUE=DATE:20200413
LOCATION:KEIN Training
SUMMARY:KEIN TRAINING DA OSTERSONNTAG
URL:https://iwb-energy-stars.ch/index.php?option=com_jem&view=event&id=213:
 kein-training-da-ostersonntag
END:VEVENT
END:VCALENDAR