BEGIN:VCALENDAR
VERSION:2.0
PRODID:-//49.12.112.25//NONSGML kigkonsult.se iCalcreator 2.20//
CALSCALE:GREGORIAN
METHOD:PUBLISH
X-WR-TIMEZONE:Europe/Berlin
BEGIN:VEVENT
UID:event21@IWB Energy Stars
DTSTAMP:20260421T173503Z
CATEGORIES:Trainingsweekend
DESCRIPTION:Trainingsweekend Herrischried - DE 2016\nCategory: Trainingswee
 kend\nLink: https://iwb-energy-stars.ch/index.php?option=com_jem&view=even
 t&id=21:trainingsweekend-herrischried-2016\n
DTSTART;TZID=Europe/Berlin:20161022T113000
DTEND;TZID=Europe/Berlin:20161023T170000
LOCATION:Eishalle Herrischried\,Herrischried / DE
SUMMARY:Trainingsweekend Herrischried - DE 2016
URL:https://iwb-energy-stars.ch/index.php?option=com_jem&view=event&id=21:t
 rainingsweekend-herrischried-2016
END:VEVENT
END:VCALENDAR