BEGIN:VCALENDAR
VERSION:2.0
PRODID:-//49.12.112.25//NONSGML kigkonsult.se iCalcreator 2.20//
CALSCALE:GREGORIAN
METHOD:PUBLISH
X-WR-TIMEZONE:Europe/Berlin
BEGIN:VEVENT
UID:event221@IWB Energy Stars
DTSTAMP:20260421T173806Z
CATEGORIES:Meisterschafts - Spiel
DESCRIPTION:Meisterschaft IWB : Loser\nCategory: Meisterschafts - Spiel\nLi
 nk: https://iwb-energy-stars.ch/index.php?option=com_jem&view=event&id=221
 :meisterschaft-iwb-loser\n
DTSTART;TZID=Europe/Berlin:20200201T200000
DTEND;TZID=Europe/Berlin:20200201T220000
LOCATION:Kunsteisbahn Rheinfelden
SUMMARY:Meisterschaft IWB : Loser
URL:https://iwb-energy-stars.ch/index.php?option=com_jem&view=event&id=221:
 meisterschaft-iwb-loser
END:VEVENT
END:VCALENDAR