BEGIN:VCALENDAR
VERSION:2.0
PRODID:-//49.12.112.25//NONSGML kigkonsult.se iCalcreator 2.20//
CALSCALE:GREGORIAN
METHOD:PUBLISH
X-WR-TIMEZONE:Europe/Berlin
BEGIN:VEVENT
UID:event222@IWB Energy Stars
DTSTAMP:20260421T173149Z
CATEGORIES:Training
DESCRIPTION:Trainings-Start\nCategory: Training\nLink: https://iwb-energy-s
 tars.ch/index.php?option=com_jem&view=event&id=222:trainings-start\n
DTSTART;TZID=Europe/Berlin:20200927T195000
DTEND;TZID=Europe/Berlin:20200927T212000
LOCATION:St. Jakob Arena - Basel
SUMMARY:Trainings-Start
URL:https://iwb-energy-stars.ch/index.php?option=com_jem&view=event&id=222:
 trainings-start
END:VEVENT
END:VCALENDAR