BEGIN:VCALENDAR
VERSION:2.0
PRODID:-//49.12.112.25//NONSGML kigkonsult.se iCalcreator 2.20//
CALSCALE:GREGORIAN
METHOD:PUBLISH
X-WR-TIMEZONE:Europe/Berlin
BEGIN:VEVENT
UID:event223@IWB Energy Stars
DTSTAMP:20260421T173201Z
CATEGORIES:Kein Training
DESCRIPTION:KEIN Training. EHC Cupvorbereitung\nCategory: Kein Training\nLi
 nk: https://iwb-energy-stars.ch/index.php?option=com_jem&view=event&id=223
 :kein-training\n
DTSTART;TZID=Europe/Berlin:20201004T193000
DTEND;TZID=Europe/Berlin:20201004T210000
LOCATION:KEIN Training
SUMMARY:KEIN Training. EHC Cupvorbereitung
URL:https://iwb-energy-stars.ch/index.php?option=com_jem&view=event&id=223:
 kein-training
END:VEVENT
END:VCALENDAR