BEGIN:VCALENDAR
VERSION:2.0
PRODID:-//49.12.112.25//NONSGML kigkonsult.se iCalcreator 2.20//
CALSCALE:GREGORIAN
METHOD:PUBLISH
X-WR-TIMEZONE:Europe/Berlin
BEGIN:VEVENT
UID:event22@IWB Energy Stars
DTSTAMP:20260421T191015Z
CATEGORIES:Playoff-Final
DESCRIPTION:Playoff Final Energy Stars : Team Sbornaja\nCategory: Playoff-F
 inal\nLink: https://iwb-energy-stars.ch/index.php?option=com_jem&view=even
 t&id=22:playoff-final\n
DTSTART;TZID=Europe/Berlin:20150510T193000
DTEND;TZID=Europe/Berlin:20150510T213000
LOCATION:St. Jakob Arena - Basel
SUMMARY:Playoff Final Energy Stars : Team Sbornaja
URL:https://iwb-energy-stars.ch/index.php?option=com_jem&view=event&id=22:p
 layoff-final
END:VEVENT
END:VCALENDAR