BEGIN:VCALENDAR
VERSION:2.0
PRODID:-//49.12.112.25//NONSGML kigkonsult.se iCalcreator 2.20//
CALSCALE:GREGORIAN
METHOD:PUBLISH
X-WR-TIMEZONE:Europe/Berlin
BEGIN:VEVENT
UID:event234@IWB Energy Stars
DTSTAMP:20260421T173510Z
CATEGORIES:Kein Training
DESCRIPTION:KEIN Training Coronabedingt\nCategory: Kein Training\nLink: htt
 ps://iwb-energy-stars.ch/index.php?option=com_jem&view=event&id=234:kein-t
 raining-coronabedingt\n
DTSTART;TZID=Europe/Berlin:20201227T193000
DTEND;TZID=Europe/Berlin:20201227T210000
LOCATION:KEIN Training
SUMMARY:KEIN Training Coronabedingt
URL:https://iwb-energy-stars.ch/index.php?option=com_jem&view=event&id=234:
 kein-training-coronabedingt
END:VEVENT
END:VCALENDAR