BEGIN:VCALENDAR
VERSION:2.0
PRODID:-//49.12.112.25//NONSGML kigkonsult.se iCalcreator 2.20//
CALSCALE:GREGORIAN
METHOD:PUBLISH
X-WR-TIMEZONE:Europe/Berlin
BEGIN:VEVENT
UID:event259@IWB Energy Stars
DTSTAMP:20260421T181113Z
CATEGORIES:Trainingsweekend
DESCRIPTION:Internes Trainingsspiel\nCategory: Trainingsweekend\nLink: http
 s://iwb-energy-stars.ch/index.php?option=com_jem&view=event&id=259:interne
 s-trainingsspiel\n
DTSTART;TZID=Europe/Berlin:20211024T193000
DTEND;TZID=Europe/Berlin:20211024T213000
LOCATION:St. Jakob Arena - Basel
SUMMARY:Internes Trainingsspiel
URL:https://iwb-energy-stars.ch/index.php?option=com_jem&view=event&id=259:
 internes-trainingsspiel
END:VEVENT
END:VCALENDAR