BEGIN:VCALENDAR
VERSION:2.0
PRODID:-//49.12.112.25//NONSGML kigkonsult.se iCalcreator 2.20//
CALSCALE:GREGORIAN
METHOD:PUBLISH
X-WR-TIMEZONE:Europe/Berlin
BEGIN:VEVENT
UID:event261@IWB Energy Stars
DTSTAMP:20260421T173813Z
CATEGORIES:Meisterschafts - Spiel
DESCRIPTION:Energy Stars : Losers\nCategory: Meisterschafts - Spiel\nLink: 
 https://iwb-energy-stars.ch/index.php?option=com_jem&view=event&id=261:ene
 rgy-stars-losers\n
DTSTART;TZID=Europe/Berlin:20211107T193000
DTEND;TZID=Europe/Berlin:20211107T213000
LOCATION:St. Jakob Arena - Basel
SUMMARY:Energy Stars : Losers
URL:https://iwb-energy-stars.ch/index.php?option=com_jem&view=event&id=261:
 energy-stars-losers
END:VEVENT
END:VCALENDAR