BEGIN:VCALENDAR
VERSION:2.0
PRODID:-//49.12.112.25//NONSGML kigkonsult.se iCalcreator 2.20//
CALSCALE:GREGORIAN
METHOD:PUBLISH
X-WR-TIMEZONE:Europe/Berlin
BEGIN:VEVENT
UID:event264@IWB Energy Stars
DTSTAMP:20260421T192225Z
CATEGORIES:Meisterschafts - Spiel
DESCRIPTION:Hawaiian Hockey Team : Energy Stars\nCategory: Meisterschafts -
  Spiel\nLink: https://iwb-energy-stars.ch/index.php?option=com_jem&view=ev
 ent&id=264:hawaiian-hockey-team-energy-stars\n
DTSTART;TZID=Europe/Berlin:20211128T193000
DTEND;TZID=Europe/Berlin:20211128T213000
LOCATION:St. Jakob Arena - Basel
SUMMARY:Hawaiian Hockey Team : Energy Stars
URL:https://iwb-energy-stars.ch/index.php?option=com_jem&view=event&id=264:
 hawaiian-hockey-team-energy-stars
END:VEVENT
END:VCALENDAR